BEGIN:VCALENDAR
VERSION:2.0
PRODID:-//Ecole St Jean Baptiste - Sautron - ECPv6.15.20//NONSGML v1.0//EN
CALSCALE:GREGORIAN
METHOD:PUBLISH
X-ORIGINAL-URL:http://stjeanbaptiste-sautron.fr
X-WR-CALDESC:Évènements pour Ecole St Jean Baptiste - Sautron
REFRESH-INTERVAL;VALUE=DURATION:PT1H
X-Robots-Tag:noindex
X-PUBLISHED-TTL:PT1H
BEGIN:VTIMEZONE
TZID:Europe/Paris
BEGIN:DAYLIGHT
TZOFFSETFROM:+0100
TZOFFSETTO:+0200
TZNAME:CEST
DTSTART:20220327T010000
END:DAYLIGHT
BEGIN:STANDARD
TZOFFSETFROM:+0200
TZOFFSETTO:+0100
TZNAME:CET
DTSTART:20221030T010000
END:STANDARD
BEGIN:DAYLIGHT
TZOFFSETFROM:+0100
TZOFFSETTO:+0200
TZNAME:CEST
DTSTART:20230326T010000
END:DAYLIGHT
BEGIN:STANDARD
TZOFFSETFROM:+0200
TZOFFSETTO:+0100
TZNAME:CET
DTSTART:20231029T010000
END:STANDARD
BEGIN:DAYLIGHT
TZOFFSETFROM:+0100
TZOFFSETTO:+0200
TZNAME:CEST
DTSTART:20240331T010000
END:DAYLIGHT
BEGIN:STANDARD
TZOFFSETFROM:+0200
TZOFFSETTO:+0100
TZNAME:CET
DTSTART:20241027T010000
END:STANDARD
BEGIN:DAYLIGHT
TZOFFSETFROM:+0100
TZOFFSETTO:+0200
TZNAME:CEST
DTSTART:20250330T010000
END:DAYLIGHT
BEGIN:STANDARD
TZOFFSETFROM:+0200
TZOFFSETTO:+0100
TZNAME:CET
DTSTART:20251026T010000
END:STANDARD
BEGIN:DAYLIGHT
TZOFFSETFROM:+0100
TZOFFSETTO:+0200
TZNAME:CEST
DTSTART:20260329T010000
END:DAYLIGHT
BEGIN:STANDARD
TZOFFSETFROM:+0200
TZOFFSETTO:+0100
TZNAME:CET
DTSTART:20261025T010000
END:STANDARD
BEGIN:DAYLIGHT
TZOFFSETFROM:+0100
TZOFFSETTO:+0200
TZNAME:CEST
DTSTART:20270328T010000
END:DAYLIGHT
BEGIN:STANDARD
TZOFFSETFROM:+0200
TZOFFSETTO:+0100
TZNAME:CET
DTSTART:20271031T010000
END:STANDARD
END:VTIMEZONE
BEGIN:VEVENT
DTSTART;TZID=Europe/Paris:20260328T083000
DTEND;TZID=Europe/Paris:20260328T120000
DTSTAMP:20260421T230551
CREATED:20251110T092305Z
LAST-MODIFIED:20251110T092305Z
UID:1152-1774686600-1774699200@stjeanbaptiste-sautron.fr
SUMMARY:Matinée Coup 2 mains
DESCRIPTION:
URL:http://stjeanbaptiste-sautron.fr/event/matinee-coup-2-mains-9/
END:VEVENT
BEGIN:VEVENT
DTSTART;TZID=Europe/Paris:20260207T083000
DTEND;TZID=Europe/Paris:20260207T120000
DTSTAMP:20260421T230551
CREATED:20251110T092230Z
LAST-MODIFIED:20251110T092230Z
UID:1150-1770453000-1770465600@stjeanbaptiste-sautron.fr
SUMMARY:Matinée Coup 2 mains
DESCRIPTION:
URL:http://stjeanbaptiste-sautron.fr/event/matinee-coup-2-mains-8/
END:VEVENT
BEGIN:VEVENT
DTSTART;TZID=Europe/Paris:20251213T083000
DTEND;TZID=Europe/Paris:20251213T120000
DTSTAMP:20260421T230551
CREATED:20251110T092159Z
LAST-MODIFIED:20251110T092159Z
UID:1148-1765614600-1765627200@stjeanbaptiste-sautron.fr
SUMMARY:Matinée Coup 2 mains
DESCRIPTION:
URL:http://stjeanbaptiste-sautron.fr/event/matinee-coup-2-mains-7/
END:VEVENT
BEGIN:VEVENT
DTSTART;TZID=Europe/Paris:20251115T093000
DTEND;TZID=Europe/Paris:20251115T113000
DTSTAMP:20260421T230551
CREATED:20251110T090415Z
LAST-MODIFIED:20251110T090415Z
UID:1139-1763199000-1763206200@stjeanbaptiste-sautron.fr
SUMMARY:Portes ouvertes
DESCRIPTION:A vos agendas ! \nL’école Saint Jean-Baptiste de Sautron vous ouvre ses portes: \n📅 le samedi 15 novembre 2025\, \n⏲️ de 9h30 à 11h30. \nL’occasion de rencontrer le corps enseignant et de visiter l’école pour les futurs élèves qui rejoindront les bancs de l’école à la rentrée de septembre 2026.
URL:http://stjeanbaptiste-sautron.fr/event/portes-ouvertes/
ATTACH;FMTTYPE=image/png:http://stjeanbaptiste-sautron.fr/wp-content/uploads/2025/11/PortesOuvertes-2025.png
END:VEVENT
BEGIN:VEVENT
DTSTART;TZID=Europe/Paris:20251011T083000
DTEND;TZID=Europe/Paris:20251011T120000
DTSTAMP:20260421T230551
CREATED:20251110T092036Z
LAST-MODIFIED:20251110T092113Z
UID:1145-1760171400-1760184000@stjeanbaptiste-sautron.fr
SUMMARY:Matinée Coup 2 mains
DESCRIPTION:
URL:http://stjeanbaptiste-sautron.fr/event/matinee-coup-2-mains-6/
END:VEVENT
BEGIN:VEVENT
DTSTART;TZID=Europe/Paris:20250629T120000
DTEND;TZID=Europe/Paris:20250629T190000
DTSTAMP:20260421T230551
CREATED:20250530T113729Z
LAST-MODIFIED:20250617T091247Z
UID:919-1751198400-1751223600@stjeanbaptiste-sautron.fr
SUMMARY:Kermesse
DESCRIPTION:
URL:http://stjeanbaptiste-sautron.fr/event/kermesse-3/
END:VEVENT
BEGIN:VEVENT
DTSTART;TZID=Europe/Paris:20250628T083000
DTEND;TZID=Europe/Paris:20250628T123000
DTSTAMP:20260421T230551
CREATED:20241106T211156Z
LAST-MODIFIED:20241106T211156Z
UID:889-1751099400-1751113800@stjeanbaptiste-sautron.fr
SUMMARY:Matinée Coup 2 mains
DESCRIPTION:
URL:http://stjeanbaptiste-sautron.fr/event/matinee-coup-2-mains-5/
END:VEVENT
BEGIN:VEVENT
DTSTART;TZID=Europe/Paris:20250527T170000
DTEND;TZID=Europe/Paris:20250527T190000
DTSTAMP:20260421T230551
CREATED:20250530T113705Z
LAST-MODIFIED:20250530T113705Z
UID:917-1748365200-1748372400@stjeanbaptiste-sautron.fr
SUMMARY:École en fête
DESCRIPTION:
URL:http://stjeanbaptiste-sautron.fr/event/ecole-en-fete/
END:VEVENT
BEGIN:VEVENT
DTSTART;TZID=Europe/Paris:20250516T170000
DTEND;TZID=Europe/Paris:20250516T210000
DTSTAMP:20260421T230551
CREATED:20250530T113636Z
LAST-MODIFIED:20250530T115401Z
UID:915-1747414800-1747429200@stjeanbaptiste-sautron.fr
SUMMARY:Soirée Guinguette
DESCRIPTION:Chers Parents…\nLe soleil arrive! Pile pour le vendredi 16 mai et notre soirée guinguette… un événement à ne pas louper! \nRdv dès 17h sur la cour des primaires et jusqu’à 21h. \n🎯 Les petits comme les grands pourront profiter de jeux en bois géants\, participer à bingo musical ou démarrer des parties de mölkky\, de palets et de Cornhole. \n🫧 À 18h00\, Emi La Fée viendra enchanter petits et grands avec ses déambulations autour des bulles… \n🍻 L’Apel tiendra une buvette et proposera des gourmandises pour le goûter puis des planches apéro. \nAttention : Tenue Rouge et blanche exigée ! \nChaque enfant doit arriver le matin de cette journée très spéciale vêtu de son plus beau t-shirt blanc associé à un détail rouge éclatant (ou l’inverse..) ! ❤️ Les parents sont également invités à jouer le jeu… 😊
URL:http://stjeanbaptiste-sautron.fr/event/soiree-guinguette/
END:VEVENT
BEGIN:VEVENT
DTSTART;TZID=Europe/Paris:20250329T090000
DTEND;TZID=Europe/Paris:20250329T120000
DTSTAMP:20260421T230551
CREATED:20250530T114839Z
LAST-MODIFIED:20250530T115134Z
UID:931-1743238800-1743249600@stjeanbaptiste-sautron.fr
SUMMARY:Matinée Sport et bien-être
DESCRIPTION:Chers Parents\, \nNous avons le plaisir de vous inviter à un moment de bien-être et de complicité avec votre enfant à travers un cours de Yoga ou de Shiatsu spécialement conçu pour les jeunes enfants et leurs parents ! \n📅 Date : 29 mars 2025 \n⏰ Heure : 2 créneaux selon l’âge de votre enfant (10h et 11h) \n📍 Lieu : À l’école\, rdv côté maternelle \nCe moment privilégié sera l’occasion de découvrir ensemble des exercices de relaxation\, de respiration et de légers massages inspirés du Shiatsu\, favorisant détente\, équilibre et lien parent-enfant. \nGaëlle de @gaellevitayoga et Jennifer de @instant.shiatsu seront là pour vous accompagner dans cette découverte. \nAucune expérience préalable n’est requise\, il suffit de venir en tenue confortable et avec l’envie de partager un instant de bien-être avec votre enfant ! \nPensez à apporter votre tapis & un plaid.. \nEnvie d’une sortie plus nature ? Nous vous proposons également un parcours en bike & run avec Ludo! \nAu programme\, un parcours adapté à tous les niveaux où chacun peut pédaler et courir à son rythme. \n📅 Date : 29 mars 2025 \n⏰ Heure : à 10h \n📍 Lieu : Rdv côté maternelle pour un départ vers la vallée du Cens \nN’hésitez pas à venir avec votre vélo\, votre tenue de sport et votre bonne humeur. (Activité sous réserve d’une météo clémente!) \nSi vous êtes intéressés par l’une de ces trois activités\, inscrivez-vous rapidement car les places sont limitées à 10 parents avec 1 enfant pour chaque créneau. \nLa participation financière est libre!
URL:http://stjeanbaptiste-sautron.fr/event/matinee-sport-et-bien-etre/
END:VEVENT
BEGIN:VEVENT
DTSTART;TZID=Europe/Paris:20250329T083000
DTEND;TZID=Europe/Paris:20250329T123000
DTSTAMP:20260421T230551
CREATED:20241106T211123Z
LAST-MODIFIED:20241106T211123Z
UID:886-1743237000-1743251400@stjeanbaptiste-sautron.fr
SUMMARY:Matinée Coup 2 mains
DESCRIPTION:
URL:http://stjeanbaptiste-sautron.fr/event/matinee-coup-2-mains-4/
END:VEVENT
BEGIN:VEVENT
DTSTART;TZID=Europe/Paris:20250308T100000
DTEND;TZID=Europe/Paris:20250308T173000
DTSTAMP:20260421T230551
CREATED:20250530T121424Z
LAST-MODIFIED:20250530T121500Z
UID:957-1741428000-1741455000@stjeanbaptiste-sautron.fr
SUMMARY:Journée Jeux en famille
DESCRIPTION:Chers parents\,\nPour accompagner vos enfants et pour clôturer la Semaine Sans Écran organisée par l’équipe pédagogique nous vous proposons une Journée Jeux de Société. \nElle aura lieu samedi prochain\, de 10h00 à 12h30 puis de 14h00 à 17h30 en salle municipale\, place de l’église. \nCette journée sera animée par Alissia Champeau Durand\, une ancienne maman de l’école\, en partenariat avec Frimaudeau ! \nCet évènement est GRATUIT ! \nC’est une belle occasion de se retrouver en famille ou entre amis pour découvrir des nouveautés et redécouvrir les grands classiques du jeu de société. \nIl vous sera également possible d’acheter des jeux avant de repartir. \nVenez nombreux !
URL:http://stjeanbaptiste-sautron.fr/event/journee-jeux-en-famille-2/
END:VEVENT
BEGIN:VEVENT
DTSTART;VALUE=DATE:20250303
DTEND;VALUE=DATE:20250310
DTSTAMP:20260421T230551
CREATED:20250305T105229Z
LAST-MODIFIED:20250305T105229Z
UID:912-1740960000-1741564799@stjeanbaptiste-sautron.fr
SUMMARY:Semaine sans écrans
DESCRIPTION:
URL:http://stjeanbaptiste-sautron.fr/event/semaine-sans-ecrans/
END:VEVENT
BEGIN:VEVENT
DTSTART;TZID=Europe/Paris:20250201T083000
DTEND;TZID=Europe/Paris:20250201T123000
DTSTAMP:20260421T230551
CREATED:20241106T211050Z
LAST-MODIFIED:20241106T211050Z
UID:884-1738398600-1738413000@stjeanbaptiste-sautron.fr
SUMMARY:Matinée Coup 2 mains
DESCRIPTION:
URL:http://stjeanbaptiste-sautron.fr/event/matinee-coup-2-mains-3/
END:VEVENT
BEGIN:VEVENT
DTSTART;TZID=Europe/Paris:20241207T083000
DTEND;TZID=Europe/Paris:20241207T123000
DTSTAMP:20260421T230551
CREATED:20241106T210958Z
LAST-MODIFIED:20241112T105416Z
UID:882-1733560200-1733574600@stjeanbaptiste-sautron.fr
SUMMARY:Matinée Coup 2 mains
DESCRIPTION:
URL:http://stjeanbaptiste-sautron.fr/event/matinee-coup-2-mains-2/
END:VEVENT
BEGIN:VEVENT
DTSTART;TZID=Europe/Paris:20241128T190000
DTEND;TZID=Europe/Paris:20241128T210000
DTSTAMP:20260421T230551
CREATED:20241106T210532Z
LAST-MODIFIED:20241106T210532Z
UID:880-1732820400-1732827600@stjeanbaptiste-sautron.fr
SUMMARY:Assemblées Générales APEL et OGEC
DESCRIPTION:
URL:http://stjeanbaptiste-sautron.fr/event/assemblees-generales-apel-et-ogec/
END:VEVENT
BEGIN:VEVENT
DTSTART;TZID=Europe/Paris:20240902T090000
DTEND;TZID=Europe/Paris:20240902T093000
DTSTAMP:20260421T230551
CREATED:20240807T123613Z
LAST-MODIFIED:20240807T123613Z
UID:661-1725267600-1725269400@stjeanbaptiste-sautron.fr
SUMMARY:Rentrée
DESCRIPTION:Tous les élèves seront accueillis sur la cour des primaires à 9h (pour les PS du lundi et les classes de MS au CM2).\nUn accueil se fera également avec les PS du mardi le 3 au matin Cour des maternelles.
URL:http://stjeanbaptiste-sautron.fr/event/rentree-2/
END:VEVENT
BEGIN:VEVENT
DTSTART;TZID=Europe/Paris:20240831T083000
DTEND;TZID=Europe/Paris:20240831T120000
DTSTAMP:20260421T230551
CREATED:20240827T120047Z
LAST-MODIFIED:20240827T120047Z
UID:667-1725093000-1725105600@stjeanbaptiste-sautron.fr
SUMMARY:Matinée Coup 2 mains
DESCRIPTION:MATINEE « COUP 2 MAINS » SAMEDI 31 AOUT – à partir de 8h30 jusqu’à 12h. \nLes vacances se terminent… la rentrée est toute proche ! \nChaque année\, pour la rentrée\, nous vous sollicitons pour une remise en état de l’établissement après l’été. \nEn effet\, les herbes ont envahi les cours\, les gouttières et les évacuations primaires ont besoin d’un petit coup de nettoyage. \nA cela s’ajoute des petits travaux comme remettre les marches du toboggan\, vérifier des poignées\, aller à la déchèterie\, etc… \nN’hésitez pas à venir même pour une heure…. Merci de nous confirmer votre présence par retour de mail. \nSi participation\, un mail vous sera envoyé par Frédéric Imbert\, papa référent de cette matinée\, vous indiquant les travaux à réaliser\, et si besoin de matériel. \nNous terminerons cette matinée en partageant un moment de convivialité. \nOn compte sur vous !
URL:http://stjeanbaptiste-sautron.fr/event/matinee-coup-2-mains/
END:VEVENT
BEGIN:VEVENT
DTSTART;VALUE=DATE:20240702
DTEND;VALUE=DATE:20240703
DTSTAMP:20260421T230551
CREATED:20240517T073430Z
LAST-MODIFIED:20240517T073430Z
UID:622-1719878400-1719964799@stjeanbaptiste-sautron.fr
SUMMARY:Boum des CM2
DESCRIPTION:Une soirée festive réservée aux élèves de CM2 pour clôturer l’année en beauté et se dire au revoir avant les vacances d’été.
URL:http://stjeanbaptiste-sautron.fr/event/boum-des-cm2/
END:VEVENT
BEGIN:VEVENT
DTSTART;TZID=Europe/Paris:20240630T120000
DTEND;TZID=Europe/Paris:20240630T180000
DTSTAMP:20260421T230551
CREATED:20240517T073344Z
LAST-MODIFIED:20240517T073505Z
UID:620-1719748800-1719770400@stjeanbaptiste-sautron.fr
SUMMARY:Kermesse
DESCRIPTION:Un rendez-vous incontournable de l’année scolaire\,avec des stands\, des jeux\, et des animations pour toute la famille.
URL:http://stjeanbaptiste-sautron.fr/event/kermesse-2/
END:VEVENT
BEGIN:VEVENT
DTSTART;VALUE=DATE:20240524
DTEND;VALUE=DATE:20240525
DTSTAMP:20260421T230551
CREATED:20240517T073124Z
LAST-MODIFIED:20240517T073609Z
UID:618-1716508800-1716595199@stjeanbaptiste-sautron.fr
SUMMARY:Journée et soirée olympique
DESCRIPTION:Journée et soirée olympique de la communauté éducative. Une journée dédiée au sport\, à la convivialité et au partage\, où chacun pourra profiter d’un moment de détente en plein air autour d’un pique-nique en soirée.
URL:http://stjeanbaptiste-sautron.fr/event/journee-et-soiree-olympique/
END:VEVENT
BEGIN:VEVENT
DTSTART;TZID=Europe/Paris:20240413T083000
DTEND;TZID=Europe/Paris:20240413T120000
DTSTAMP:20260421T230551
CREATED:20230926T193415Z
LAST-MODIFIED:20230926T193415Z
UID:317-1712997000-1713009600@stjeanbaptiste-sautron.fr
SUMMARY:Matinée Coup 2 mains pour l'école
DESCRIPTION:Chacun (e) d’entre vous peut aider à l’entretien et la bonne tenue des cours\, des préaux\, des salles de classe…. \nMême si vous ne savez pas bricoler\, si vous savez seulement pousser une tondeuse ou tenir un balai\, vous serez d’une aide précieuse ! \nSi\, au contraire\, vous êtes un (e) AS du bricolage nous vous attendons aussi impatiemment. \nLa matinée se termine toujours par un temps convivial pour faire connaissance et partager une petite collation. \nL’année dernière\, une maman a répondu à l’appel….et cette année\, combien ?
URL:http://stjeanbaptiste-sautron.fr/event/matinee-coup-2-mains-pour-lecole-5/
END:VEVENT
BEGIN:VEVENT
DTSTART;TZID=Europe/Paris:20240312T193000
DTEND;TZID=Europe/Paris:20240312T220000
DTSTAMP:20260421T230551
CREATED:20240206T140754Z
LAST-MODIFIED:20240206T140958Z
UID:562-1710271800-1710280800@stjeanbaptiste-sautron.fr
SUMMARY:Rencontre parents - école "Les écrans\, question d'équilibre"
DESCRIPTION:Il semble aujourd’hui impossible de se passer des écrans qui nous entourent au quotidien. Et pourtant\, ces mêmes écrans sont souvent la source de crispations et de conflits entre les parents et leurs enfants. \nComment aider les enfants à bien grandir dans cet environnement très numérique et gérer les tensions qui peuvent apparaître ? \nC’est la réponse à laquelle nous allons tenter de répondre lors de notre rencontre parents-école que nous organisons le Mardi 12 mars de 19h30 à 22h\, en salle de motricité\, côté maternelle. \nNous démarrerons cette rencontre par un moment convivial et gourmand puis\, grâce à des animateurs de l’APEL 44\, nous discuterons de cet équilibre à avoir autour des écrans. \nInscrivez-vous vite\, c’est gratuit !
URL:http://stjeanbaptiste-sautron.fr/event/rencontre-parents-ecole-les-ecrans-question-dequilibre/
END:VEVENT
BEGIN:VEVENT
DTSTART;TZID=Europe/Paris:20240217T083000
DTEND;TZID=Europe/Paris:20240217T120000
DTSTAMP:20260421T230551
CREATED:20230926T193338Z
LAST-MODIFIED:20230926T193338Z
UID:315-1708158600-1708171200@stjeanbaptiste-sautron.fr
SUMMARY:Matinée Coup 2 mains pour l'école
DESCRIPTION:Chacun (e) d’entre vous peut aider à l’entretien et la bonne tenue des cours\, des préaux\, des salles de classe…. \nMême si vous ne savez pas bricoler\, si vous savez seulement pousser une tondeuse ou tenir un balai\, vous serez d’une aide précieuse ! \nSi\, au contraire\, vous êtes un (e) AS du bricolage nous vous attendons aussi impatiemment. \nLa matinée se termine toujours par un temps convivial pour faire connaissance et partager une petite collation. \nL’année dernière\, une maman a répondu à l’appel….et cette année\, combien ?
URL:http://stjeanbaptiste-sautron.fr/event/matinee-coup-2-mains-pour-lecole-4/
END:VEVENT
BEGIN:VEVENT
DTSTART;TZID=Europe/Paris:20240213T190000
DTEND;TZID=Europe/Paris:20240213T200000
DTSTAMP:20260421T230551
CREATED:20240206T125856Z
LAST-MODIFIED:20240206T125923Z
UID:553-1707850800-1707854400@stjeanbaptiste-sautron.fr
SUMMARY:Assemblée générale OGEC
DESCRIPTION:
URL:http://stjeanbaptiste-sautron.fr/event/assemble-generale-ogec/
END:VEVENT
BEGIN:VEVENT
DTSTART;TZID=Europe/Paris:20231216T083000
DTEND;TZID=Europe/Paris:20231216T120000
DTSTAMP:20260421T230551
CREATED:20230926T193303Z
LAST-MODIFIED:20230926T193303Z
UID:313-1702715400-1702728000@stjeanbaptiste-sautron.fr
SUMMARY:Matinée Coup 2 mains pour l’école
DESCRIPTION:Chacun (e) d’entre vous peut aider à l’entretien et la bonne tenue des cours\, des préaux\, des salles de classe…. \nMême si vous ne savez pas bricoler\, si vous savez seulement pousser une tondeuse ou tenir un balai\, vous serez d’une aide précieuse ! \nSi\, au contraire\, vous êtes un (e) AS du bricolage nous vous attendons aussi impatiemment. \nLa matinée se termine toujours par un temps convivial pour faire connaissance et partager une petite collation. \nL’année dernière\, une maman a répondu à l’appel….et cette année\, combien ?
URL:http://stjeanbaptiste-sautron.fr/event/matinee-coup-2-mains-pour-lecole-3/
END:VEVENT
BEGIN:VEVENT
DTSTART;TZID=Europe/Paris:20231215T170000
DTEND;TZID=Europe/Paris:20231215T190000
DTSTAMP:20260421T230551
CREATED:20230926T192856Z
LAST-MODIFIED:20230926T192856Z
UID:306-1702659600-1702666800@stjeanbaptiste-sautron.fr
SUMMARY:Marché de Noël
DESCRIPTION:
URL:http://stjeanbaptiste-sautron.fr/event/marche-de-noel/
END:VEVENT
BEGIN:VEVENT
DTSTART;TZID=Europe/Paris:20231121T190000
DTEND;TZID=Europe/Paris:20231121T210000
DTSTAMP:20260421T230551
CREATED:20231108T211201Z
LAST-MODIFIED:20231108T211201Z
UID:426-1700593200-1700600400@stjeanbaptiste-sautron.fr
SUMMARY:AG APEL
DESCRIPTION:Nous avons le plaisir de vous convier à l’Assemblée Générale ordinaire de l’APEL Saint Jean-Baptiste qui se tiendra le : MARDI 21 novembre 2023 à 19h\, Rez-de-chaussée du Bâtiment Jacques Prévert (bâtiment administratif). \nEt qui sera suivi d’un apéritif offert par l’APEL. \nL’ordre du jour sera le suivant : \n\nRapport sur l’activité écoulée\nRapport financier\nPrésentation des comptes annuels\nQuitus\nÉlections des membres du conseil d’administration\nPrésentation des actions choisies pour l’année en cours
URL:http://stjeanbaptiste-sautron.fr/event/ag-apel/
END:VEVENT
BEGIN:VEVENT
DTSTART;TZID=Europe/Paris:20231118T140000
DTEND;TZID=Europe/Paris:20231118T220000
DTSTAMP:20260421T230551
CREATED:20231108T210740Z
LAST-MODIFIED:20231108T210740Z
UID:424-1700316000-1700344800@stjeanbaptiste-sautron.fr
SUMMARY:L'APEL du jeu : venez jouer en famille !
DESCRIPTION:🎲🌟 Préparez-vous pour une journée de jeux de société inoubliable le samedi 18 novembre ! Rejoignez-nous et découvrez un univers de divertissement et d’amitié. 🎉👨‍👩‍👧‍👦 \n  \n📅 Date : Samedi 18 novembre \n🕖 Heure : 14h à 18h et de 20h à 22h \n📍 Lieu : Petite Salle à côté de la Cantine\, 13 rue Eglise\, 44880 Sautron \nC’est l’occasion parfaite pour jouer à vos jeux préférés\, essayer de nouveaux jeux\, rencontrer de nouveaux amis et partager des éclats de rire. Préparez-vous à une journée et soirée mémorable remplie de convivialité et de compétition amicale ! \nOrganisé par Frimaudeau\, avec la possibilité d’acheter vos jeux préférés à la fin de vos parties. \nNe manquez pas cette opportunité de passer un moment exceptionnel avec vos proches et de découvrir de nouveaux jeux passionnants. À bientôt !
URL:http://stjeanbaptiste-sautron.fr/event/lapel-du-jeu-venez-jouer-en-famille/
END:VEVENT
BEGIN:VEVENT
DTSTART;TZID=Europe/Paris:20231014T083000
DTEND;TZID=Europe/Paris:20231014T120000
DTSTAMP:20260421T230551
CREATED:20230926T193143Z
LAST-MODIFIED:20230926T193143Z
UID:311-1697272200-1697284800@stjeanbaptiste-sautron.fr
SUMMARY:Matinée Coup 2 mains pour l'école
DESCRIPTION:Chacun (e) d’entre vous peut aider à l’entretien et la bonne tenue des cours\, des préaux\, des salles de classe…. \nMême si vous ne savez pas bricoler\, si vous savez seulement pousser une tondeuse ou tenir un balai\, vous serez d’une aide précieuse ! \nSi\, au contraire\, vous êtes un (e) AS du bricolage nous vous attendons aussi impatiemment.
URL:http://stjeanbaptiste-sautron.fr/event/matinee-coup-2-mains-pour-lecole-2/
END:VEVENT
END:VCALENDAR