BEGIN:VCALENDAR
VERSION:2.0
PRODID:-//Ecole St Jean Baptiste - Sautron - ECPv6.15.20//NONSGML v1.0//EN
CALSCALE:GREGORIAN
METHOD:PUBLISH
X-ORIGINAL-URL:https://stjeanbaptiste-sautron.fr
X-WR-CALDESC:Évènements pour Ecole St Jean Baptiste - Sautron
REFRESH-INTERVAL;VALUE=DURATION:PT1H
X-Robots-Tag:noindex
X-PUBLISHED-TTL:PT1H
BEGIN:VTIMEZONE
TZID:Europe/Paris
BEGIN:DAYLIGHT
TZOFFSETFROM:+0100
TZOFFSETTO:+0200
TZNAME:CEST
DTSTART:20220327T010000
END:DAYLIGHT
BEGIN:STANDARD
TZOFFSETFROM:+0200
TZOFFSETTO:+0100
TZNAME:CET
DTSTART:20221030T010000
END:STANDARD
BEGIN:DAYLIGHT
TZOFFSETFROM:+0100
TZOFFSETTO:+0200
TZNAME:CEST
DTSTART:20230326T010000
END:DAYLIGHT
BEGIN:STANDARD
TZOFFSETFROM:+0200
TZOFFSETTO:+0100
TZNAME:CET
DTSTART:20231029T010000
END:STANDARD
BEGIN:DAYLIGHT
TZOFFSETFROM:+0100
TZOFFSETTO:+0200
TZNAME:CEST
DTSTART:20240331T010000
END:DAYLIGHT
BEGIN:STANDARD
TZOFFSETFROM:+0200
TZOFFSETTO:+0100
TZNAME:CET
DTSTART:20241027T010000
END:STANDARD
END:VTIMEZONE
BEGIN:VEVENT
DTSTART;TZID=Europe/Paris:20230411T090000
DTEND;TZID=Europe/Paris:20230411T120000
DTSTAMP:20260424T053835
CREATED:20230309T164747Z
LAST-MODIFIED:20230309T164747Z
UID:38-1681203600-1681214400@stjeanbaptiste-sautron.fr
SUMMARY:Course solidaire
DESCRIPTION:Course solidaire
URL:https://stjeanbaptiste-sautron.fr/event/course-solidaire/
END:VEVENT
END:VCALENDAR