BEGIN:VCALENDAR
VERSION:2.0
PRODID:-//Ecole St Jean Baptiste - Sautron - ECPv6.15.20//NONSGML v1.0//EN
CALSCALE:GREGORIAN
METHOD:PUBLISH
X-WR-CALNAME:Ecole St Jean Baptiste - Sautron
X-ORIGINAL-URL:https://stjeanbaptiste-sautron.fr
X-WR-CALDESC:Évènements pour Ecole St Jean Baptiste - Sautron
REFRESH-INTERVAL;VALUE=DURATION:PT1H
X-Robots-Tag:noindex
X-PUBLISHED-TTL:PT1H
BEGIN:VTIMEZONE
TZID:Europe/Paris
BEGIN:DAYLIGHT
TZOFFSETFROM:+0100
TZOFFSETTO:+0200
TZNAME:CEST
DTSTART:20220327T010000
END:DAYLIGHT
BEGIN:STANDARD
TZOFFSETFROM:+0200
TZOFFSETTO:+0100
TZNAME:CET
DTSTART:20221030T010000
END:STANDARD
BEGIN:DAYLIGHT
TZOFFSETFROM:+0100
TZOFFSETTO:+0200
TZNAME:CEST
DTSTART:20230326T010000
END:DAYLIGHT
BEGIN:STANDARD
TZOFFSETFROM:+0200
TZOFFSETTO:+0100
TZNAME:CET
DTSTART:20231029T010000
END:STANDARD
BEGIN:DAYLIGHT
TZOFFSETFROM:+0100
TZOFFSETTO:+0200
TZNAME:CEST
DTSTART:20240331T010000
END:DAYLIGHT
BEGIN:STANDARD
TZOFFSETFROM:+0200
TZOFFSETTO:+0100
TZNAME:CET
DTSTART:20241027T010000
END:STANDARD
END:VTIMEZONE
BEGIN:VEVENT
DTSTART;TZID=Europe/Paris:20230902T083000
DTEND;TZID=Europe/Paris:20230902T123000
DTSTAMP:20260423T231556
CREATED:20230811T083114Z
LAST-MODIFIED:20230811T090400Z
UID:60-1693643400-1693657800@stjeanbaptiste-sautron.fr
SUMMARY:Matinée Coup 2 mains pour l'école
DESCRIPTION:Retrouvez-nous le samedi 2 septembre pour une matinée Coup 2 mains pour que notre école soit toute belle pour la rentrée après des semaines de fermeture estivale. \nLa matinée se termine toujours pas un temps convivial pour faire connaissance et partage rune petite collation.
URL:https://stjeanbaptiste-sautron.fr/event/matinee-coup-2-mains-pour-lecole/
ATTACH;FMTTYPE=image/jpeg:https://stjeanbaptiste-sautron.fr/wp-content/uploads/2023/08/ESJB_MatineeCoup2Mains.jpg
END:VEVENT
END:VCALENDAR