BEGIN:VCALENDAR
VERSION:2.0
PRODID:-//Ecole St Jean Baptiste - Sautron - ECPv6.15.20//NONSGML v1.0//EN
CALSCALE:GREGORIAN
METHOD:PUBLISH
X-ORIGINAL-URL:https://stjeanbaptiste-sautron.fr
X-WR-CALDESC:Évènements pour Ecole St Jean Baptiste - Sautron
REFRESH-INTERVAL;VALUE=DURATION:PT1H
X-Robots-Tag:noindex
X-PUBLISHED-TTL:PT1H
BEGIN:VTIMEZONE
TZID:Europe/Paris
BEGIN:DAYLIGHT
TZOFFSETFROM:+0100
TZOFFSETTO:+0200
TZNAME:CEST
DTSTART:20220327T010000
END:DAYLIGHT
BEGIN:STANDARD
TZOFFSETFROM:+0200
TZOFFSETTO:+0100
TZNAME:CET
DTSTART:20221030T010000
END:STANDARD
BEGIN:DAYLIGHT
TZOFFSETFROM:+0100
TZOFFSETTO:+0200
TZNAME:CEST
DTSTART:20230326T010000
END:DAYLIGHT
BEGIN:STANDARD
TZOFFSETFROM:+0200
TZOFFSETTO:+0100
TZNAME:CET
DTSTART:20231029T010000
END:STANDARD
BEGIN:DAYLIGHT
TZOFFSETFROM:+0100
TZOFFSETTO:+0200
TZNAME:CEST
DTSTART:20240331T010000
END:DAYLIGHT
BEGIN:STANDARD
TZOFFSETFROM:+0200
TZOFFSETTO:+0100
TZNAME:CET
DTSTART:20241027T010000
END:STANDARD
END:VTIMEZONE
BEGIN:VEVENT
DTSTART;TZID=Europe/Paris:20230904T080000
DTEND;TZID=Europe/Paris:20230904T170000
DTSTAMP:20260423T215826
CREATED:20230811T082602Z
LAST-MODIFIED:20230811T082602Z
UID:57-1693814400-1693846800@stjeanbaptiste-sautron.fr
SUMMARY:Rentrée
DESCRIPTION:Nous aurons le plaisir de vous retrouver lundi 4 septembre pour démarrer ensemble une nouvelle année. \n\nRDV à 9H dans la cour Marcel Pagnol pour les enfants des classes élémentaires\nRDV à 9h15 dans la cour des Comptines pour les enfants des classes maternelles\n\nD’ici là\, passez un bel été.
URL:https://stjeanbaptiste-sautron.fr/event/rentree/
ATTACH;FMTTYPE=image/jpeg:https://stjeanbaptiste-sautron.fr/wp-content/uploads/2023/08/rentree.jpg
END:VEVENT
END:VCALENDAR