BEGIN:VCALENDAR
VERSION:2.0
PRODID:-//Ecole St Jean Baptiste - Sautron - ECPv6.15.20//NONSGML v1.0//EN
CALSCALE:GREGORIAN
METHOD:PUBLISH
X-ORIGINAL-URL:https://stjeanbaptiste-sautron.fr
X-WR-CALDESC:Évènements pour Ecole St Jean Baptiste - Sautron
REFRESH-INTERVAL;VALUE=DURATION:PT1H
X-Robots-Tag:noindex
X-PUBLISHED-TTL:PT1H
BEGIN:VTIMEZONE
TZID:Europe/Paris
BEGIN:DAYLIGHT
TZOFFSETFROM:+0100
TZOFFSETTO:+0200
TZNAME:CEST
DTSTART:20220327T010000
END:DAYLIGHT
BEGIN:STANDARD
TZOFFSETFROM:+0200
TZOFFSETTO:+0100
TZNAME:CET
DTSTART:20221030T010000
END:STANDARD
BEGIN:DAYLIGHT
TZOFFSETFROM:+0100
TZOFFSETTO:+0200
TZNAME:CEST
DTSTART:20230326T010000
END:DAYLIGHT
BEGIN:STANDARD
TZOFFSETFROM:+0200
TZOFFSETTO:+0100
TZNAME:CET
DTSTART:20231029T010000
END:STANDARD
BEGIN:DAYLIGHT
TZOFFSETFROM:+0100
TZOFFSETTO:+0200
TZNAME:CEST
DTSTART:20240331T010000
END:DAYLIGHT
BEGIN:STANDARD
TZOFFSETFROM:+0200
TZOFFSETTO:+0100
TZNAME:CET
DTSTART:20241027T010000
END:STANDARD
END:VTIMEZONE
BEGIN:VEVENT
DTSTART;TZID=Europe/Paris:20230910T080000
DTEND;TZID=Europe/Paris:20230910T170000
DTSTAMP:20260423T215929
CREATED:20230910T193539Z
LAST-MODIFIED:20230910T193539Z
UID:258-1694332800-1694365200@stjeanbaptiste-sautron.fr
SUMMARY:Réunions de classe 2023/2024
DESCRIPTION:Bonjour\, \nvoici les dates pour les réunions de classes\, elles démarreront toutes à 18h. \n\nPS Mme TAVERNIER et Mme LE STUM : Mardi 12 septembre\nMS Mme LESTUM : Mardi 19 septembre\nMS Mme CHUNIAUD : Lundi 25 septembre\nGS Mme PORTIER et Mr REGENT : Mardi 19 septembre\nGS/CP et CP Mme KITTEN et Mme AUDRAIN : Lundi 18 septembre\nCE1 / CE2 Mme MOUTAULT et Mme MAYET GONNET: Vendredi 22 septembre\nCE1CE2 Mme LEGRAND : Mardi 26 septembre\nCM1 Mme JILALI et CM1 Mme MORICE : Lundi 18 septembre\nCM2 et CM2 : Mr RAKOTO et Mme MORICE : Jeudi 28 septembre de 18h à 20h\n\n 
URL:https://stjeanbaptiste-sautron.fr/event/reunions-de-classe-2023-2024/
END:VEVENT
END:VCALENDAR