BEGIN:VCALENDAR
VERSION:2.0
PRODID:-//Ecole St Jean Baptiste - Sautron - ECPv6.15.20//NONSGML v1.0//EN
CALSCALE:GREGORIAN
METHOD:PUBLISH
X-WR-CALNAME:Ecole St Jean Baptiste - Sautron
X-ORIGINAL-URL:https://stjeanbaptiste-sautron.fr
X-WR-CALDESC:Évènements pour Ecole St Jean Baptiste - Sautron
REFRESH-INTERVAL;VALUE=DURATION:PT1H
X-Robots-Tag:noindex
X-PUBLISHED-TTL:PT1H
BEGIN:VTIMEZONE
TZID:Europe/Paris
BEGIN:DAYLIGHT
TZOFFSETFROM:+0100
TZOFFSETTO:+0200
TZNAME:CEST
DTSTART:20220327T010000
END:DAYLIGHT
BEGIN:STANDARD
TZOFFSETFROM:+0200
TZOFFSETTO:+0100
TZNAME:CET
DTSTART:20221030T010000
END:STANDARD
BEGIN:DAYLIGHT
TZOFFSETFROM:+0100
TZOFFSETTO:+0200
TZNAME:CEST
DTSTART:20230326T010000
END:DAYLIGHT
BEGIN:STANDARD
TZOFFSETFROM:+0200
TZOFFSETTO:+0100
TZNAME:CET
DTSTART:20231029T010000
END:STANDARD
BEGIN:DAYLIGHT
TZOFFSETFROM:+0100
TZOFFSETTO:+0200
TZNAME:CEST
DTSTART:20240331T010000
END:DAYLIGHT
BEGIN:STANDARD
TZOFFSETFROM:+0200
TZOFFSETTO:+0100
TZNAME:CET
DTSTART:20241027T010000
END:STANDARD
END:VTIMEZONE
BEGIN:VEVENT
DTSTART;TZID=Europe/Paris:20230929T163000
DTEND;TZID=Europe/Paris:20230929T173000
DTSTAMP:20260423T202418
CREATED:20230926T192236Z
LAST-MODIFIED:20230926T192236Z
UID:298-1696005000-1696008600@stjeanbaptiste-sautron.fr
SUMMARY:Vente de gâteaux maison
DESCRIPTION:Les CM2 vont partir en classe découverte la semaine avant les vacances de la Toussaint. \nPour récolter des fonds\, ils vont organiser des ventes de gâteaux maisons (1€ la part) à la sortie de l’école.
URL:https://stjeanbaptiste-sautron.fr/event/vente-de-gateaux-maison/
END:VEVENT
END:VCALENDAR